Workbook

Sheet 工作表1
B1: 中國香港體育舞蹈總會
K2: 會員編號 | L2: BC
B3: 霹靂舞 教練 申請表
B6: 個人資料
C8: B-Boy / B-Girl 稱號
C9: 姓氏 (中文) | E9: (身份證上之姓名)
C10: 名字 (中文)
C11: 姓氏 (英文)
C12: 名字 (英文)
C13: 性別
C14: 出生年份
C15: 香港身分證號碼
C16: 國籍 (中文)
C17: 國籍 (英文)
C18: 護照號碼
C19: 護照簽發國家/地區 (中文)
C20: 護照簽發國家/地區 (英文)
C21: 電話
... C28: 工作簽證號碼(非香港居民)
H30: 聲明：本人同意證明提供之所有資料及附上之文件均真實及正確無誤。
B31: 申請日期
D32: 年 | E32: 月 | F32: 日
B34: 審批日期
D35: 年 | E35: 月 | F35: 日 | J35: 簽署
B37: 請先將填妥之表格電郵至 break@dancesport.org.hk，然後再將簽署後之表格連同近照、身分證副本、
B38: 證書副本、其他相關文件副本，入會費及年費支票受款人「中國香港體育舞蹈總會」逕寄或親臨
B39: 香港葵涌大連排道172-180號金龍工業中心3座21樓L室中國香港體育舞蹈總會收。
B40: 教練年費港幣200元及首次登記費港幣200元 (會籍有效年期為每年1月1日至12月31日)
B41: 中國香港體育舞蹈總會
K42: 會員編號 | L42: BC
B43: 霹靂舞 教練 申請表
B46: 霹靂舞比賽成績
D47: 年 | E47: 月 | F47: 日
B48: 賽事日期 | H48: 賽事名稱
B50: 主辦國家/地區 | H50: 主辦機構名稱
B52: 參賽項目 | D52: 名稱/舞蹈類別
D53: 成績/名次 | I53: 隊伍數量/人數 | K53: 國家數量
B55: 參賽項目 | D55: 名稱/舞蹈類別
D56: 成績/名次 | I56: 隊伍數量/人數 | K56: 國家數量
D58: 年 | E58: 月 | F58: 日
...

Sheet .
A1: 會員編號 | B1: 稱號 | C1: 姓 | D1: 名 | E1: 姓(英文) | F1: 名(英文) | G1: 性別 | H1: 出生年份 | I1: 電話 | J1: 電郵地址 | K1: 所屬組織名稱 | L1: 所屬組織名稱 (英文) | M1: 香港身分證號碼 | N1: 國籍 | O1: 國籍(英文) | P1: 護照號碼 | Q1: 護照簽發國家/地區 | R1: 護照簽發國家/地區 (英文) | S1: 工作簽證號碼 | U1: 住址 (中文) | V1: 住址 (英文) | AD1: 申請 | AE1: 日 | AF1: 期 | AG1: 審批 | AH1: 日 | AI1: 期 | AK1: 裁判長 | AL1: 裁判 | AM1: 審查員 | AN1: 計分員 | AO1: 司儀 | AP1: 唱片騎師
AD2: 年 | AE2: 月 | AF2: 日 | AG2: 年 | AH2: 月 | AI2: 日 | AK2: Head Judge | AL2: Judge | AM2: Examiner | AN2: Statistician | AO2: MC | AP2: DJ
A4: =+工作表1!L2 -> BC | B4: =+工作表1!H8 -> 0 | C4: =+工作表1!H9 -> 0 | D4: =+工作表1!H10 -> 0 | E4: =+工作表1!H11 -> 0 | F4: =+工作表1!H12 -> 0 | G4: =+工作表1!H13 -> 0 | H4: =+工作表1!H14 -> 0 | I4: =+工作表1!H21 -> 0 | J4: =+工作表1!H22 -> 0 | K4: =+工作表1!H26 -> 0 | L4: =+工作表1!H27 -> 0 | M4: =+工作表1!H15 -> 0 | N4: =+工作表1!H16 -> 0 | O4: =+工作表1!H17 -> 0 | P4: =+工作表1!H18 -> 0 | Q4: =+工作表1!H19 -> 0 | R4: =+工作表1!H20 -> 0 | S4: =+工作表1!H28 -> 0 | U4: =+工作表1!H23 -> 0 | V4: =+工作表1!H24 -> 0 | AD4: =+工作表1!D31 -> 0 | AE4: =+工作表1!E31 -> 0 | AF4: =+工作表1!F31 -> 0 | AG4: =+工作表1!D34 -> 0 | AH4: =+工作表1!E34 -> 0 | AI4: =+工作表1!F34 -> 0
