Workbook

Sheet 工作表1
B1: 中國香港體育舞蹈總會
K2: 會員編號 | L2: BC
B3: 霹靂舞 教練 申請表
B6: 個人資料
C8: B-Boy / B-Girl 稱號
C9: 姓氏 (中文) | E9: (身份證上之姓名)
C10: 名字 (中文)
C11: 姓氏 (英文)
C12: 名字 (英文)
C13: 性別
C14: 出生年份
C15: 香港身分證號碼
C16: 國籍 (中文)
C17: 國籍 (英文)
C18: 護照號碼
C19: 護照簽發國家/地區 (中文)
C20: 護照簽發國家/地區 (英文)
C21: 電話
... C28: 工作簽證號碼(非香港居民)
H30: 聲明：本人同意證明提供之所有資料及附上之文件均真實及正確無誤。
B31: 申請日期
D32: 年 | E32: 月 | F32: 日
B34: 審批日期
D35: 年 | E35: 月 | F35: 日 | J35: 簽署
B37: 請先將填妥之表格電郵至 break@dancesport.org.hk，然後再將簽署後之表格連同近照、身分證副本、
B38: 證書副本、其他相關文件副本，入會費及年費支票受款人「中國香港體育舞蹈總會」逕寄或親臨
B39: 香港葵涌大連排道172-180號金龍工業中心3座21樓L室中國香港體育舞蹈總會收。
B40: 教練年費港幣200元及首次登記費港幣200元 (會籍有效年期為每年1月1日至12月31日)
B41: 中國香港體育舞蹈總會
K42: 會員編號 | L42: BC
B43: 霹靂舞 教練 申請表
B46: 霹靂舞比賽成績
D47: 年 | E47: 月 | F47: 日
B48: 賽事日期 | H48: 賽事名稱
B50: 主辦國家/地區 | H50: 主辦機構名稱
B52: 參賽項目 | D52: 名稱/舞蹈類別
D53: 成績/名次 | I53: 隊伍數量/人數 | K53: 國家數量
B55: 參賽項目 | D55: 名稱/舞蹈類別
D56: 成績/名次 | I56: 隊伍數量/人數 | K56: 國家數量
D58: 年 | E58: 月 | F58: 日
B59: 賽事日期 | H59: 賽事名稱
B61: 主辦國家/地區 | H61: 主辦機構名稱
B63: 參賽項目 | D63: 名稱/舞蹈類別
D64: 成績/名次 | I64: 隊伍數量/人數 | K64: 國家數量
B66: 參賽項目 | D66: 名稱/舞蹈類別
D67: 成績/名次 | I67: 隊伍數量/人數 | K67: 國家數量
D69: 年 | E69: 月 | F69: 日
B70: 賽事日期 | H70: 賽事名稱
B72: 主辦國家/地區 | H72: 主辦機構名稱
B74: 參賽項目 | D74: 名稱/舞蹈類別
D75: 成績/名次 | I75: 隊伍數量/人數 | K75: 國家數量
B77: 參賽項目 | D77: 名稱/舞蹈類別
D78: 成績/名次 | I78: 隊伍數量/人數 | K78: 國家數量
D80: 年 | E80: 月 | F80: 日
B81: 賽事日期 | H81: 賽事名稱
B83: 主辦國家/地區 | H83: 主辦機構名稱
B85: 參賽項目 | D85: 名稱/舞蹈類別
D86: 成績/名次 | I86: 隊伍數量/人數 | K86: 國家數量
B89: 中國香港體育舞蹈總會
K90: 會員編號 | L90: BC
B91: 霹靂舞 教練 申請表
B94: 霹靂舞教學經驗
B96: 課程日期 | H96: 課程名稱/舞蹈類別
B98: 主辦國家/地區 | H98: 主辦機構名稱
B100: 課程日期 | H100: 課程名稱/舞蹈類別
B102: 主辦國家/地區 | H102: 主辦機構名稱
B104: 課程日期 | H104: 課程名稱/舞蹈類別
B106: 主辦國家/地區 | H106: 主辦機構名稱
B108: 課程日期 | H108: 課程名稱/舞蹈類別
B110: 主辦國家/地區 | H110: 主辦機構名稱
B112: 課程日期 | H112: 課程名稱/舞蹈類別
B114: 主辦國家/地區 | H114: 主辦機構名稱
B116: 課程日期 | H116: 課程名稱/舞蹈類別
B118: 主辦國家/地區 | H118: 主辦機構名稱
... B130: 主辦國家/地區 | H130: 主辦機構名稱
B134: 中國香港體育舞蹈總會
K135: 會員編號 | L135: BC
B136: 霹靂舞 教練 申請表
B139: 其他霹靂舞專業資格
D140: 年 | E140: 月 | F140: 日
B141: 證書簽發日期 | I141: 證書類別
B143: 簽發國家/地區 | I143: 簽發機構名稱
D145: 年 | E145: 月 | F145: 日
B146: 證書簽發日期 | I146: 證書類別
B148: 簽發國家/地區 | I148: 簽發機構名稱
D150: 年 | E150: 月 | F150: 日
B151: 證書簽發日期 | I151: 證書類別
B153: 簽發國家/地區 | I153: 簽發機構名稱
D155: 年 | E155: 月 | F155: 日
B156: 證書簽發日期 | I156: 證書類別
B158: 簽發國家/地區 | I158: 簽發機構名稱
B161: 霹靂舞持續進修資料
B163: 課程日期 | H163: 課程名稱/舞蹈類別
B165: 上課時數 | H165: 主辦機構名稱
B167: 課程日期 | H167: 課程名稱/舞蹈類別
B169: 上課時數 | H169: 主辦機構名稱
B171: 課程日期 | H171: 課程名稱/舞蹈類別
B173: 上課時數 | H173: 主辦機構名稱

Sheet .
A1: 會員編號 | B1: 稱號 | C1: 姓 | D1: 名 | E1: 姓(英文) | F1: 名(英文) | G1: 性別 | H1: 出生年份 | I1: 電話 | J1: 電郵地址 | K1: 所屬組織名稱 | L1: 所屬組織名稱 (英文) | M1: 香港身分證號碼 | N1: 國籍 | O1: 國籍(英文) | P1: 護照號碼 | Q1: 護照簽發國家/地區 | R1: 護照簽發國家/地區 (英文) | S1: 工作簽證號碼 | U1: 住址 (中文) | V1: 住址 (英文) | AD1: 申請 | AE1: 日 | AF1: 期 | AG1: 審批 | AH1: 日 | AI1: 期 | AK1: 裁判長 | AL1: 裁判 | AM1: 審查員 | AN1: 計分員 | AO1: 司儀 | AP1: 唱片騎師
AD2: 年 | AE2: 月 | AF2: 日 | AG2: 年 | AH2: 月 | AI2: 日 | AK2: Head Judge | AL2: Judge | AM2: Examiner | AN2: Statistician | AO2: MC | AP2: DJ
A4: =+工作表1!L2 -> BC | B4: =+工作表1!H8 -> 0 | C4: =+工作表1!H9 -> 0 | D4: =+工作表1!H10 -> 0 | E4: =+工作表1!H11 -> 0 | F4: =+工作表1!H12 -> 0 | G4: =+工作表1!H13 -> 0 | H4: =+工作表1!H14 -> 0 | I4: =+工作表1!H21 -> 0 | J4: =+工作表1!H22 -> 0 | K4: =+工作表1!H26 -> 0 | L4: =+工作表1!H27 -> 0 | M4: =+工作表1!H15 -> 0 | N4: =+工作表1!H16 -> 0 | O4: =+工作表1!H17 -> 0 | P4: =+工作表1!H18 -> 0 | Q4: =+工作表1!H19 -> 0 | R4: =+工作表1!H20 -> 0 | S4: =+工作表1!H28 -> 0 | U4: =+工作表1!H23 -> 0 | V4: =+工作表1!H24 -> 0 | AD4: =+工作表1!D31 -> 0 | AE4: =+工作表1!E31 -> 0 | AF4: =+工作表1!F31 -> 0 | AG4: =+工作表1!D34 -> 0 | AH4: =+工作表1!E34 -> 0 | AI4: =+工作表1!F34 -> 0
